BEGIN:VCALENDAR
VERSION:2.0
PRODID:-//100FORE22 Foundation - ECPv6.15.20//NONSGML v1.0//EN
CALSCALE:GREGORIAN
METHOD:PUBLISH
X-ORIGINAL-URL:https://100fore22foundation.org
X-WR-CALDESC:Events for 100FORE22 Foundation
REFRESH-INTERVAL;VALUE=DURATION:PT1H
X-Robots-Tag:noindex
X-PUBLISHED-TTL:PT1H
BEGIN:VTIMEZONE
TZID:America/New_York
BEGIN:DAYLIGHT
TZOFFSETFROM:-0500
TZOFFSETTO:-0400
TZNAME:EDT
DTSTART:20190310T070000
END:DAYLIGHT
BEGIN:STANDARD
TZOFFSETFROM:-0400
TZOFFSETTO:-0500
TZNAME:EST
DTSTART:20191103T060000
END:STANDARD
BEGIN:DAYLIGHT
TZOFFSETFROM:-0500
TZOFFSETTO:-0400
TZNAME:EDT
DTSTART:20200308T070000
END:DAYLIGHT
BEGIN:STANDARD
TZOFFSETFROM:-0400
TZOFFSETTO:-0500
TZNAME:EST
DTSTART:20201101T060000
END:STANDARD
BEGIN:DAYLIGHT
TZOFFSETFROM:-0500
TZOFFSETTO:-0400
TZNAME:EDT
DTSTART:20210314T070000
END:DAYLIGHT
BEGIN:STANDARD
TZOFFSETFROM:-0400
TZOFFSETTO:-0500
TZNAME:EST
DTSTART:20211107T060000
END:STANDARD
END:VTIMEZONE
BEGIN:VEVENT
DTSTART;VALUE=DATE:20200910
DTEND;VALUE=DATE:20200911
DTSTAMP:20260422T001319
CREATED:20231016T165441Z
LAST-MODIFIED:20240131T043919Z
UID:10000003-1599696000-1599782399@100fore22foundation.org
SUMMARY:100FORE22 Golf Marathon - Fort Dix
DESCRIPTION:September 10\, 2020\, the team had an early morning rise around 0430 with excitement to embark on their journey to conquer their first 100 hole golf marathon\, walking every step of the way.  The final preparations were being done that morning as the rain started to fall at 0600.  As the rain picked up\, and the team was about to take their first swings of the day\, they did not feel discouraged or defeated.  Somewhere in a foreign land were our military members in far worse adverse conditions preserving our freedoms.  Somewhere in the United States\, a police officer\, a fireman\, a ems technician was in a snowstorm\, a torrential downpour conducting their duties saving lives.  Ten hours later\, the team made their final putts on the 100th hole\, the 18th hole at Fountain Green Golf Course on Joint Base MDL in New Jersey. It was a beautiful downhill par 4 on a two tiered green that had a  pond in front of it siting 20 yards wide and across.  All the blisters\, the body aches\, cramps\, charely horses did not matter as the realization that the mission they had mentally and physically prepared for has just been conquered.  Over 35 miles walked\, over 400 golf swings\, and lots of cheers from spectators made the day a success.  Over $2800 was raised and donated to Veterans4Life USA that immediately impacted several Veterans and First Responders into treatment to regain their life.
URL:https://100fore22foundation.org/event/fort-dix/
LOCATION:Fountain Green Golf Course\, 3152 Pemberton Wrightstown Rd\, Fort Dix\, NJ\, 08640\, United States
END:VEVENT
END:VCALENDAR