BEGIN:VCALENDAR
VERSION:2.0
PRODID:-//100FORE22 Foundation - ECPv6.15.20//NONSGML v1.0//EN
CALSCALE:GREGORIAN
METHOD:PUBLISH
X-ORIGINAL-URL:https://100fore22foundation.org
X-WR-CALDESC:Events for 100FORE22 Foundation
REFRESH-INTERVAL;VALUE=DURATION:PT1H
X-Robots-Tag:noindex
X-PUBLISHED-TTL:PT1H
BEGIN:VTIMEZONE
TZID:America/New_York
BEGIN:DAYLIGHT
TZOFFSETFROM:-0500
TZOFFSETTO:-0400
TZNAME:EDT
DTSTART:20200308T070000
END:DAYLIGHT
BEGIN:STANDARD
TZOFFSETFROM:-0400
TZOFFSETTO:-0500
TZNAME:EST
DTSTART:20201101T060000
END:STANDARD
BEGIN:DAYLIGHT
TZOFFSETFROM:-0500
TZOFFSETTO:-0400
TZNAME:EDT
DTSTART:20210314T070000
END:DAYLIGHT
BEGIN:STANDARD
TZOFFSETFROM:-0400
TZOFFSETTO:-0500
TZNAME:EST
DTSTART:20211107T060000
END:STANDARD
BEGIN:DAYLIGHT
TZOFFSETFROM:-0500
TZOFFSETTO:-0400
TZNAME:EDT
DTSTART:20220313T070000
END:DAYLIGHT
BEGIN:STANDARD
TZOFFSETFROM:-0400
TZOFFSETTO:-0500
TZNAME:EST
DTSTART:20221106T060000
END:STANDARD
END:VTIMEZONE
BEGIN:VEVENT
DTSTART;VALUE=DATE:20210802
DTEND;VALUE=DATE:20210803
DTSTAMP:20260421T222540
CREATED:20231016T170202Z
LAST-MODIFIED:20240131T050132Z
UID:10000004-1627862400-1627948799@100fore22foundation.org
SUMMARY:100FORE22 Golf Marathon - TPC Jasna Polana
DESCRIPTION:August 2\, 2021 at the beautiful property at TPC Jasna Polana in Princeton NJ\, our team was waking up from their rooms in the Beata’s House overlooking the 18th fairway and 1st tee box.  It was a cool morning in the upper 50’s with dew covering the property as the team was gathered on the 1st tee to begin their quest to concur their second marathon in less than a year on a more demanding and undulating course.  Energy levels were high\, support from friends\, family and members throughout the day watching our team tackle a course with 2700 feet of elevation change.  On the courses 15th hole\, team member Joshua Howard holed out for an eagle from 170 yards away on a shot where he needed to hit a perfect draw to a pin he could barely see from his obstruction of trees.  On the 100th hole of the day\, a beautiful finishing hole that is a downhill par 5\, with the clubhouse sitting high up on the hill nestled behind the 18th green.  Our founder and president Joshua Sears hit his tee shot\, and on his follow through\, his driver came out from his hands\, he had collapsed to the ground in pain and agony as his back had locked up.  After being down for a few minutes\, spectators watching with worry and grief\, he rose to his feet and gingerly walked to his next shot and continued to finish the marathon.  Together\, the team had walked over 40 miles each\, 450 golf swings\, numerous blisters\, chaffing\, aches\, pains\, rolled ankles….. We had done it\, another successful marathon\, another accomplishment on a challenging and undulating course.  With our teams effort\, fundraising and donations\, we were able to present Tunnels2Towers Foundation with a check just over $3200!
URL:https://100fore22foundation.org/event/100fore22-golf-classic-2021/
LOCATION:TPC Jasna Polana\, 4519 Province Line Road\, Princeton\, NJ\, 08540\, United States
END:VEVENT
END:VCALENDAR